BEGIN:VCALENDAR
PRODID:templ5.webt.iee.ihu.gr
VERSION:2.0
CALSCALE:GREGORIAN
X-WR-TIMEZONE:Europe/Athens
METHOD:PUBLISH
BEGIN:VEVENT
DTSTART:20251016T150000
DTEND:20251016T150000
DTSTAMP:20251010T175717
CREATED:20251010T175717
SUMMARY:International Symposium on Water and Sustainability: 50 years of UNESCO IHP
DESCRIPTION:{"color": "#ED6663"}
URL:https://www.topogeo.ihu.gr/events/international-symposium-on-water-and-sustainability-50-years-of-unesco-ihp/
UID: EVENT-3046
LAST-MODIFIED:20251010T180054
TRANSP:OPAQUE
END:VEVENT
BEGIN:VEVENT
DTSTART:20251001T070000
DTEND:20251001T110000
DTSTAMP:20250930T124121
CREATED:20250930T124121
SUMMARY:Υποδοχή Πρωτοετών Φοιτητών
DESCRIPTION:{"color": "#B52B65"}
URL:https://www.topogeo.ihu.gr/events/%cf%85%cf%80%ce%bf%ce%b4%ce%bf%cf%87%ce%ae-%cf%80%cf%81%cf%89%cf%84%ce%bf%ce%b5%cf%84%cf%8e%ce%bd-%cf%86%ce%bf%ce%b9%cf%84%ce%b7%cf%84%cf%8e%ce%bd/
UID: EVENT-2904
LAST-MODIFIED:20250930T134119
TRANSP:OPAQUE
END:VEVENT
BEGIN:VEVENT
DTSTART:20250704T060000
DTEND:20250706T120000
DTSTAMP:20250527T165510
CREATED:20250527T165510
SUMMARY:45ο Διεθνές Διαδικτυακό Συνέδριο Ανθρωπιστικών και Κοινωνικών Επιστημών με θέμα «Διαπολιτισμική εκπαίδευση, Μεταναστευτική Πολιτική, Προκαταλήψεις, Συντηρητισμός και η ελληνική ως δεύτερη ή ξένη γλώσσα»
DESCRIPTION:{"color": "#864879"}
URL:https://www.topogeo.ihu.gr/events/45%ce%bf-%ce%b4%ce%b9%ce%b5%ce%b8%ce%bd%ce%ad%cf%82-%ce%b4%ce%b9%ce%b1%ce%b4%ce%b9%ce%ba%cf%84%cf%85%ce%b1%ce%ba%cf%8c-%cf%83%cf%85%ce%bd%ce%ad%ce%b4%cf%81%ce%b9%ce%bf-%ce%b1%ce%bd%ce%b8%cf%81%cf%89/
UID: EVENT-2716
LAST-MODIFIED:20250527T165632
TRANSP:OPAQUE
END:VEVENT
END:VCALENDAR